BEGIN:VCALENDAR
VERSION:2.0
PRODID:-//hacksw/handcal//NONSGML v1.0//EN
BEGIN:VEVENT
SUMMARY:Reunion Mensuelle 18H
UID:96db678c-c57d-488f-b7df-108f452bd55d
DTSTART:20260412T220000Z
DTEND:20260413T220000Z
LOCATION:Localisation   
CATEGORIES:Administratif
STATUS:
DESCRIPTION:<p><span style="font-size:16px;">Le 6 avril etant ferie,
 la reunion mensuelle est decalee au 13 avril 2026 a 18
 H</span></p>
 
 <p><strong><span style="font-size:16px;">*  Pensez a
 vos reglements pour le sejour Bretagne du mois de mai
 *</span></strong></p>
URL;VALUE=URI:https://assuncyclo.sportsregions.fr/evenements/2026/04/13/reunion-mensuelle-18h-2437841
END:VEVENT
END:VCALENDAR
